BEGIN:VCALENDAR
VERSION:2.0
PRODID:-//Summer Undergraduate Research Fellowship - ECPv6.15.12.2//NONSGML v1.0//EN
CALSCALE:GREGORIAN
METHOD:PUBLISH
X-ORIGINAL-URL:https://surf.rutgers.edu
X-WR-CALDESC:Events for Summer Undergraduate Research Fellowship
REFRESH-INTERVAL;VALUE=DURATION:PT1H
X-Robots-Tag:noindex
X-PUBLISHED-TTL:PT1H
BEGIN:VTIMEZONE
TZID:America/New_York
BEGIN:DAYLIGHT
TZOFFSETFROM:-0500
TZOFFSETTO:-0400
TZNAME:EDT
DTSTART:20170312T070000
END:DAYLIGHT
BEGIN:STANDARD
TZOFFSETFROM:-0400
TZOFFSETTO:-0500
TZNAME:EST
DTSTART:20171105T060000
END:STANDARD
BEGIN:DAYLIGHT
TZOFFSETFROM:-0500
TZOFFSETTO:-0400
TZNAME:EDT
DTSTART:20180311T070000
END:DAYLIGHT
BEGIN:STANDARD
TZOFFSETFROM:-0400
TZOFFSETTO:-0500
TZNAME:EST
DTSTART:20181104T060000
END:STANDARD
BEGIN:DAYLIGHT
TZOFFSETFROM:-0500
TZOFFSETTO:-0400
TZNAME:EDT
DTSTART:20190310T070000
END:DAYLIGHT
BEGIN:STANDARD
TZOFFSETFROM:-0400
TZOFFSETTO:-0500
TZNAME:EST
DTSTART:20191103T060000
END:STANDARD
BEGIN:DAYLIGHT
TZOFFSETFROM:-0500
TZOFFSETTO:-0400
TZNAME:EDT
DTSTART:20200308T070000
END:DAYLIGHT
BEGIN:STANDARD
TZOFFSETFROM:-0400
TZOFFSETTO:-0500
TZNAME:EST
DTSTART:20201101T060000
END:STANDARD
END:VTIMEZONE
BEGIN:VEVENT
DTSTART;TZID=America/New_York:20190528T080000
DTEND;TZID=America/New_York:20190528T170000
DTSTAMP:20260422T235006
CREATED:20190528T122521Z
LAST-MODIFIED:20190528T122521Z
UID:1248-1559030400-1559062800@surf.rutgers.edu
SUMMARY:SURF begins!
DESCRIPTION:
URL:https://surf.rutgers.edu/calendar/surf-begins/
END:VEVENT
BEGIN:VEVENT
DTSTART;TZID=America/New_York:20180801T090000
DTEND;TZID=America/New_York:20180801T133000
DTSTAMP:20260422T235006
CREATED:20180602T130735Z
LAST-MODIFIED:20180602T130735Z
UID:796-1533114000-1533130200@surf.rutgers.edu
SUMMARY:RiSE Research Symposium
DESCRIPTION:
URL:https://surf.rutgers.edu/calendar/rise-research-symposium/
LOCATION:BSC
END:VEVENT
BEGIN:VEVENT
DTSTART;VALUE=DATE:20180727
DTEND;VALUE=DATE:20180728
DTSTAMP:20260422T235006
CREATED:20180208T210141Z
LAST-MODIFIED:20180208T210141Z
UID:695-1532649600-1532735999@surf.rutgers.edu
SUMMARY:SURF 2018 Ends
DESCRIPTION:
URL:https://surf.rutgers.edu/calendar/surf-2018-ends/
END:VEVENT
BEGIN:VEVENT
DTSTART;TZID=America/New_York:20180726T110000
DTEND;TZID=America/New_York:20180726T150000
DTSTAMP:20260422T235006
CREATED:20180602T130052Z
LAST-MODIFIED:20180602T130052Z
UID:781-1532602800-1532617200@surf.rutgers.edu
SUMMARY:SURF Fellow Research Presentations
DESCRIPTION:
URL:https://surf.rutgers.edu/calendar/surf-fellow-research-presentations/
LOCATION:EOHSI AB
END:VEVENT
BEGIN:VEVENT
DTSTART;VALUE=DATE:20180724
DTEND;VALUE=DATE:20180725
DTSTAMP:20260422T235006
CREATED:20180602T130004Z
LAST-MODIFIED:20180602T130004Z
UID:779-1532390400-1532476799@surf.rutgers.edu
SUMMARY:Send Cody your Powerpoint Slides
DESCRIPTION:
URL:https://surf.rutgers.edu/calendar/send-cody-your-powerpoint-slides/
END:VEVENT
BEGIN:VEVENT
DTSTART;TZID=America/New_York:20180720T090000
DTEND;TZID=America/New_York:20180720T130000
DTSTAMP:20260422T235006
CREATED:20180602T130617Z
LAST-MODIFIED:20180602T130617Z
UID:792-1532077200-1532091600@surf.rutgers.edu
SUMMARY:Mini Symposium - Scholar 5 Minute Presentations
DESCRIPTION:
URL:https://surf.rutgers.edu/calendar/mini-symposium-scholar-5-minute-presentations/
LOCATION:PH 130\, 131
END:VEVENT
BEGIN:VEVENT
DTSTART;TZID=America/New_York:20180719T120000
DTEND;TZID=America/New_York:20180719T140000
DTSTAMP:20260422T235006
CREATED:20180602T125842Z
LAST-MODIFIED:20180602T125842Z
UID:774-1532001600-1532008800@surf.rutgers.edu
SUMMARY:Team Projects: (1) Results for Drinking Water Contamination & Risk Assessment and (2) In the News Activity
DESCRIPTION:
URL:https://surf.rutgers.edu/calendar/team-projects-1-results-for-drinking-water-contamination-risk-assessment-and-2-in-the-news-activity/
LOCATION:EOHSI AB
END:VEVENT
BEGIN:VEVENT
DTSTART;VALUE=DATE:20180719
DTEND;VALUE=DATE:20180720
DTSTAMP:20260422T235006
CREATED:20180602T125912Z
LAST-MODIFIED:20180602T125912Z
UID:777-1531958400-1532044799@surf.rutgers.edu
SUMMARY:Scientific and Graphical Abstracts are Due Online
DESCRIPTION:
URL:https://surf.rutgers.edu/calendar/scientific-and-graphical-abstracts-are-due-online/
END:VEVENT
BEGIN:VEVENT
DTSTART;TZID=America/New_York:20180718T121500
DTEND;TZID=America/New_York:20180718T134500
DTSTAMP:20260422T235006
CREATED:20180602T130501Z
LAST-MODIFIED:20180602T130502Z
UID:790-1531916100-1531921500@surf.rutgers.edu
SUMMARY:Fellowships & Funding: Position Yourself for Success
DESCRIPTION:
URL:https://surf.rutgers.edu/calendar/fellowships-funding-position-yourself-for-success/
LOCATION:BME 116
END:VEVENT
BEGIN:VEVENT
DTSTART;TZID=America/New_York:20180717T130000
DTEND;TZID=America/New_York:20180717T133000
DTSTAMP:20260422T235006
CREATED:20180602T125631Z
LAST-MODIFIED:20180602T125631Z
UID:772-1531832400-1531834200@surf.rutgers.edu
SUMMARY:SURF Group Photo
DESCRIPTION:
URL:https://surf.rutgers.edu/calendar/surf-group-photo/
LOCATION:Outside EOHSI
END:VEVENT
BEGIN:VEVENT
DTSTART;TZID=America/New_York:20180712T120000
DTEND;TZID=America/New_York:20180712T140000
DTSTAMP:20260422T235006
CREATED:20180602T125250Z
LAST-MODIFIED:20180602T125250Z
UID:768-1531396800-1531404000@surf.rutgers.edu
SUMMARY:Research and Career Seminar with Dr. Gary Grover
DESCRIPTION:
URL:https://surf.rutgers.edu/calendar/research-and-career-seminar-with-dr-gary-grover/
LOCATION:EOHSI C
END:VEVENT
BEGIN:VEVENT
DTSTART;VALUE=DATE:20180712
DTEND;VALUE=DATE:20180713
DTSTAMP:20260422T235006
CREATED:20180602T125336Z
LAST-MODIFIED:20180602T125337Z
UID:770-1531353600-1531439999@surf.rutgers.edu
SUMMARY:Each team needs to email their news article to Gabriella by today
DESCRIPTION:
URL:https://surf.rutgers.edu/calendar/each-team-needs-to-email-their-news-article-to-gabriella-by-today/
END:VEVENT
BEGIN:VEVENT
DTSTART;TZID=America/New_York:20180705T160000
DTEND;TZID=America/New_York:20180705T183000
DTSTAMP:20260422T235006
CREATED:20180602T125133Z
LAST-MODIFIED:20180602T125133Z
UID:764-1530806400-1530815400@surf.rutgers.edu
SUMMARY:Barbeque for All Summer Undergraduate Research Fellows
DESCRIPTION:
URL:https://surf.rutgers.edu/calendar/barbeque-for-all-summer-undergraduate-research-fellows/
LOCATION:Outside EOHSI
END:VEVENT
BEGIN:VEVENT
DTSTART;TZID=America/New_York:20180705T120000
DTEND;TZID=America/New_York:20180705T140000
DTSTAMP:20260422T235006
CREATED:20180602T125004Z
LAST-MODIFIED:20180602T125004Z
UID:760-1530792000-1530799200@surf.rutgers.edu
SUMMARY:5 Min Presentation Training and Development of Scientific & Graphical Abstracts
DESCRIPTION:
URL:https://surf.rutgers.edu/calendar/5-min-presentation-training-and-development-of-scientific-graphical-abstracts/
LOCATION:EOHSI C
END:VEVENT
BEGIN:VEVENT
DTSTART;TZID=America/New_York:20180628T110000
DTEND;TZID=America/New_York:20180628T140000
DTSTAMP:20260422T235006
CREATED:20180602T124908Z
LAST-MODIFIED:20180602T124908Z
UID:758-1530183600-1530194400@surf.rutgers.edu
SUMMARY:Research Mini-Symposium
DESCRIPTION:
URL:https://surf.rutgers.edu/calendar/research-mini-symposium/
LOCATION:EOHSI C
END:VEVENT
BEGIN:VEVENT
DTSTART;TZID=America/New_York:20180621T120000
DTEND;TZID=America/New_York:20180621T140000
DTSTAMP:20260422T235006
CREATED:20180602T124817Z
LAST-MODIFIED:20180602T131527Z
UID:756-1529582400-1529589600@surf.rutgers.edu
SUMMARY:Novel Models of Safety Testing\, Paul Levesque from Bristol Myers Squibb
DESCRIPTION:
URL:https://surf.rutgers.edu/calendar/novel-models-of-safety-testing-paul-levesque-from-bristol-myers-squibb/
LOCATION:EOHSI C
END:VEVENT
BEGIN:VEVENT
DTSTART;TZID=America/New_York:20180620T131500
DTEND;TZID=America/New_York:20180620T141500
DTSTAMP:20260422T235006
CREATED:20180602T124445Z
LAST-MODIFIED:20180607T215656Z
UID:754-1529500500-1529504100@surf.rutgers.edu
SUMMARY:Research Presentation\, Dr. Kym Gowdy
DESCRIPTION:
URL:https://surf.rutgers.edu/calendar/research-presentation-dr-kym-gowdy/
LOCATION:EOHSI C
END:VEVENT
BEGIN:VEVENT
DTSTART;TZID=America/New_York:20180620T121500
DTEND;TZID=America/New_York:20180620T134500
DTSTAMP:20260422T235006
CREATED:20180602T130332Z
LAST-MODIFIED:20180602T130332Z
UID:786-1529496900-1529502300@surf.rutgers.edu
SUMMARY:Graduate School: How to Get In\, Get Funding\, and Meet Success.
DESCRIPTION:
URL:https://surf.rutgers.edu/calendar/graduate-school-how-to-get-in-get-funding-and-meet-success/
LOCATION:BME 116
END:VEVENT
BEGIN:VEVENT
DTSTART;TZID=America/New_York:20180619T083000
DTEND;TZID=America/New_York:20180619T173000
DTSTAMP:20260422T235006
CREATED:20180602T002618Z
LAST-MODIFIED:20180602T131423Z
UID:748-1529397000-1529429400@surf.rutgers.edu
SUMMARY:Field Trip to Bristol-Myers Squibb
DESCRIPTION:Meet in EOHSI’s parking lot at 8:30 am sharp!
URL:https://surf.rutgers.edu/calendar/field-trip-to-bristol-myers-squibb/
LOCATION:Meet in EOHSI Parking Lot
END:VEVENT
BEGIN:VEVENT
DTSTART;TZID=America/New_York:20180614T163000
DTEND;TZID=America/New_York:20180614T180000
DTSTAMP:20260422T235006
CREATED:20180602T130152Z
LAST-MODIFIED:20180602T130152Z
UID:783-1528993800-1528999200@surf.rutgers.edu
SUMMARY:iJOBS Workshop: Pick the Right Job for Your Personality in the Pharma Agency Space
DESCRIPTION:
URL:https://surf.rutgers.edu/calendar/ijobs-workshop-pick-the-right-job-for-your-personality-in-the-pharma-agency-space/
LOCATION:TBD
END:VEVENT
BEGIN:VEVENT
DTSTART;TZID=America/New_York:20180614T120000
DTEND;TZID=America/New_York:20180614T140000
DTSTAMP:20260422T235006
CREATED:20180602T002043Z
LAST-MODIFIED:20180602T002043Z
UID:744-1528977600-1528984800@surf.rutgers.edu
SUMMARY:Developing Dynamic LinkedIn Profiles with Career Services
DESCRIPTION:
URL:https://surf.rutgers.edu/calendar/developing-dynamic-linkedin-profiles-with-career-services/
LOCATION:EOHSI C
END:VEVENT
BEGIN:VEVENT
DTSTART;TZID=America/New_York:20180613T080000
DTEND;TZID=America/New_York:20180613T170000
DTSTAMP:20260422T235006
CREATED:20180602T001901Z
LAST-MODIFIED:20180602T002655Z
UID:742-1528876800-1528909200@surf.rutgers.edu
SUMMARY:Field Testing of Soil Samples in Trenton for Lead
DESCRIPTION:We will meet in EOHSI’s parking lot; actual meeting time TBD.
URL:https://surf.rutgers.edu/calendar/field-testing-of-soil-samples-in-trenton-for-lead/
LOCATION:Meet in EOHSI Parking Lot
END:VEVENT
BEGIN:VEVENT
DTSTART;TZID=America/New_York:20180611T103000
DTEND;TZID=America/New_York:20180611T113000
DTSTAMP:20260422T235006
CREATED:20180602T001633Z
LAST-MODIFIED:20180606T203122Z
UID:740-1528713000-1528716600@surf.rutgers.edu
SUMMARY:Thesis Defense for PhD Candidate Kate Annunziato - Perfluorinated Chemicals and Toxicity in Zebrafish
DESCRIPTION:
URL:https://surf.rutgers.edu/calendar/thesis-defense-for-phd-candidate-kate-annunziato-perfluorinated-chemicals-and-toxicity-in-zebrafish/
LOCATION:EOHSI C
END:VEVENT
BEGIN:VEVENT
DTSTART;TZID=America/New_York:20180607T120000
DTEND;TZID=America/New_York:20180607T140000
DTSTAMP:20260422T235006
CREATED:20180602T001538Z
LAST-MODIFIED:20180602T001538Z
UID:738-1528372800-1528380000@surf.rutgers.edu
SUMMARY:Drinking Water Safety and Environmental Sampling Seminars
DESCRIPTION:
URL:https://surf.rutgers.edu/calendar/drinking-water-safety-and-environmental-sampling-seminars/
LOCATION:EOHSI C
END:VEVENT
BEGIN:VEVENT
DTSTART;TZID=America/New_York:20180531T120000
DTEND;TZID=America/New_York:20180531T140000
DTSTAMP:20260422T235006
CREATED:20180602T001449Z
LAST-MODIFIED:20180602T131057Z
UID:736-1527768000-1527775200@surf.rutgers.edu
SUMMARY:Toxicology Career Panel  and Team Building
DESCRIPTION:
URL:https://surf.rutgers.edu/calendar/toxicology-career-panel-and-team-building/
LOCATION:EOHSI C
END:VEVENT
BEGIN:VEVENT
DTSTART;TZID=America/New_York:20180524T120000
DTEND;TZID=America/New_York:20180524T140000
DTSTAMP:20260422T235006
CREATED:20180602T001129Z
LAST-MODIFIED:20180602T001129Z
UID:734-1527163200-1527170400@surf.rutgers.edu
SUMMARY:Introductions & Goal Setting; Responsible Conduct of Research Training
DESCRIPTION:
URL:https://surf.rutgers.edu/calendar/introductions-responsible-conduct-of-research-training/
LOCATION:EOHSI C
END:VEVENT
BEGIN:VEVENT
DTSTART;TZID=America/New_York:20180521T140000
DTEND;TZID=America/New_York:20180521T160000
DTSTAMP:20260422T235006
CREATED:20180602T001006Z
LAST-MODIFIED:20180602T001300Z
UID:732-1526911200-1526918400@surf.rutgers.edu
SUMMARY:Laboratory Safety & Biological/Blood-Borne Pathogen Training
DESCRIPTION:
URL:https://surf.rutgers.edu/calendar/laboratory-safety-biological-blood-borne-pathogen-training/
LOCATION:EOHSI C
END:VEVENT
BEGIN:VEVENT
DTSTART;TZID=America/New_York:20180521T130000
DTEND;TZID=America/New_York:20180521T140000
DTSTAMP:20260422T235006
CREATED:20180602T000618Z
LAST-MODIFIED:20180602T000618Z
UID:727-1526907600-1526911200@surf.rutgers.edu
SUMMARY:Opening Mixer with Mentors
DESCRIPTION:
URL:https://surf.rutgers.edu/calendar/opening-mixer-with-mentors/
LOCATION:EOHSI C
END:VEVENT
BEGIN:VEVENT
DTSTART;VALUE=DATE:20180521
DTEND;VALUE=DATE:20180522
DTSTAMP:20260422T235006
CREATED:20180208T210031Z
LAST-MODIFIED:20180208T210031Z
UID:693-1526860800-1526947199@surf.rutgers.edu
SUMMARY:SURF 2018 Begins
DESCRIPTION:
URL:https://surf.rutgers.edu/calendar/surf-2018-begins/
END:VEVENT
END:VCALENDAR